Package: STexampleData Version: 1.0.8 Command: /home/biocbuild/bbs-3.13-bioc/R/bin/R CMD INSTALL STexampleData StartedAt: 2021-10-16 11:15:14 -0400 (Sat, 16 Oct 2021) EndedAt: 2021-10-16 11:15:49 -0400 (Sat, 16 Oct 2021) EllapsedTime: 34.9 seconds RetCode: 0 Status: OK