Package: Single.mTEC.Transcriptomes Version: 1.20.0 Command: /home/biocbuild/bbs-3.13-bioc/R/bin/R CMD INSTALL Single.mTEC.Transcriptomes StartedAt: 2021-10-16 11:08:02 -0400 (Sat, 16 Oct 2021) EndedAt: 2021-10-16 11:08:16 -0400 (Sat, 16 Oct 2021) EllapsedTime: 14.1 seconds RetCode: 0 Status: OK