git_url: https://git.bioconductor.org/packages/SomatiCAData git_branch: RELEASE_3_13 git_last_commit: ddac1e8 git_last_commit_date: 2021-05-19 11:39:09 -0400 (Wed, 19 May 2021) Package: SomatiCAData Version: 1.30.0 Maintainer: Mengjie Chen MaintainerEmail: mengjie.chen at yale.edu