Package: SpikeIn Version: 1.34.0 Command: /home/biocbuild/bbs-3.13-bioc/R/bin/R CMD check --install=check:SpikeIn.install-out.txt --library=/home/biocbuild/bbs-3.13-bioc/R/library --no-vignettes --timings SpikeIn_1.34.0.tar.gz StartedAt: 2021-10-16 14:05:24 -0400 (Sat, 16 Oct 2021) EndedAt: 2021-10-16 14:06:01 -0400 (Sat, 16 Oct 2021) EllapsedTime: 36.8 seconds RetCode: 0 Status: WARNINGS CheckDir: SpikeIn.Rcheck Warnings: 1