Package: SpikeIn Version: 1.34.0 Command: /home/biocbuild/bbs-3.13-bioc/R/bin/R CMD INSTALL SpikeIn StartedAt: 2021-10-16 11:07:30 -0400 (Sat, 16 Oct 2021) EndedAt: 2021-10-16 11:07:39 -0400 (Sat, 16 Oct 2021) EllapsedTime: 8.8 seconds RetCode: 0 Status: OK