Package: TMExplorer Version: 1.2.1 Command: /home/biocbuild/bbs-3.13-bioc/R/bin/R CMD check --install=check:TMExplorer.install-out.txt --library=/home/biocbuild/bbs-3.13-bioc/R/library --no-vignettes --timings TMExplorer_1.2.1.tar.gz StartedAt: 2021-10-16 14:12:57 -0400 (Sat, 16 Oct 2021) EndedAt: 2021-10-16 14:17:45 -0400 (Sat, 16 Oct 2021) EllapsedTime: 287.4 seconds RetCode: 0 Status: OK CheckDir: TMExplorer.Rcheck Warnings: 0