Package: TMExplorer Version: 1.2.1 Command: /home/biocbuild/bbs-3.13-bioc/R/bin/R CMD INSTALL TMExplorer StartedAt: 2021-10-16 11:11:57 -0400 (Sat, 16 Oct 2021) EndedAt: 2021-10-16 11:12:19 -0400 (Sat, 16 Oct 2021) EllapsedTime: 21.9 seconds RetCode: 0 Status: OK