Package: VariantToolsData Version: 1.16.0 Command: /home/biocbuild/bbs-3.13-bioc/R/bin/R CMD build --keep-empty-dirs --no-resave-data VariantToolsData StartedAt: 2021-10-16 12:44:02 -0400 (Sat, 16 Oct 2021) EndedAt: 2021-10-16 12:45:31 -0400 (Sat, 16 Oct 2021) EllapsedTime: 89.0 seconds RetCode: 0 Status: OK PackageFile: VariantToolsData_1.16.0.tar.gz PackageFileSize: 201.6 MiB