Package: VariantToolsData Version: 1.16.0 Command: /home/biocbuild/bbs-3.13-bioc/R/bin/R CMD check --install=check:VariantToolsData.install-out.txt --library=/home/biocbuild/bbs-3.13-bioc/R/library --no-vignettes --timings VariantToolsData_1.16.0.tar.gz StartedAt: 2021-10-16 14:13:47 -0400 (Sat, 16 Oct 2021) EndedAt: 2021-10-16 14:17:24 -0400 (Sat, 16 Oct 2021) EllapsedTime: 216.2 seconds RetCode: 0 Status: WARNINGS CheckDir: VariantToolsData.Rcheck Warnings: 1