Package: WES.1KG.WUGSC Version: 1.24.0 Command: /home/biocbuild/bbs-3.13-bioc/R/bin/R CMD build --keep-empty-dirs --no-resave-data WES.1KG.WUGSC StartedAt: 2021-10-16 12:44:30 -0400 (Sat, 16 Oct 2021) EndedAt: 2021-10-16 12:45:09 -0400 (Sat, 16 Oct 2021) EllapsedTime: 38.9 seconds RetCode: 0 Status: OK PackageFile: WES.1KG.WUGSC_1.24.0.tar.gz PackageFileSize: 373.2 MiB