Package: XhybCasneuf Version: 1.30.0 Command: /home/biocbuild/bbs-3.13-bioc/R/bin/R CMD check --install=check:XhybCasneuf.install-out.txt --library=/home/biocbuild/bbs-3.13-bioc/R/library --no-vignettes --timings XhybCasneuf_1.30.0.tar.gz StartedAt: 2021-10-16 14:14:13 -0400 (Sat, 16 Oct 2021) EndedAt: 2021-10-16 14:15:32 -0400 (Sat, 16 Oct 2021) EllapsedTime: 78.9 seconds RetCode: 0 Status: WARNINGS CheckDir: XhybCasneuf.Rcheck Warnings: 1