Package: XhybCasneuf Version: 1.30.0 Command: /home/biocbuild/bbs-3.13-bioc/R/bin/R CMD INSTALL XhybCasneuf StartedAt: 2021-10-16 11:10:20 -0400 (Sat, 16 Oct 2021) EndedAt: 2021-10-16 11:10:47 -0400 (Sat, 16 Oct 2021) EllapsedTime: 27.3 seconds RetCode: 0 Status: OK