git_url: https://git.bioconductor.org/packages/airway git_branch: RELEASE_3_13 git_last_commit: 20eae99 git_last_commit_date: 2021-05-19 11:47:54 -0400 (Wed, 19 May 2021) Package: airway Version: 1.12.0 Maintainer: Michael Love MaintainerEmail: michaelisaiahlove at gmail.com