Package: airway Version: 1.12.0 Command: /home/biocbuild/bbs-3.13-bioc/R/bin/R CMD check --install=check:airway.install-out.txt --library=/home/biocbuild/bbs-3.13-bioc/R/library --no-vignettes --timings airway_1.12.0.tar.gz StartedAt: 2021-10-16 12:46:53 -0400 (Sat, 16 Oct 2021) EndedAt: 2021-10-16 12:48:10 -0400 (Sat, 16 Oct 2021) EllapsedTime: 76.6 seconds RetCode: 0 Status: WARNINGS CheckDir: airway.Rcheck Warnings: 1