git_url: https://git.bioconductor.org/packages/alpineData git_branch: RELEASE_3_13 git_last_commit: cfe6f00 git_last_commit_date: 2021-05-19 11:59:37 -0400 (Wed, 19 May 2021) Package: alpineData Version: 1.18.0 Maintainer: Michael Love MaintainerEmail: michaelisaiahlove at gmail.com