git_url: https://git.bioconductor.org/packages/aracne.networks git_branch: RELEASE_3_13 git_last_commit: cfd17d5 git_last_commit_date: 2021-05-19 11:59:00 -0400 (Wed, 19 May 2021) Package: aracne.networks Version: 1.18.0 Maintainer: Federico M. Giorgi , Mariano Alvarez MaintainerEmail: reef103 at gmail.com