Package: benchmarkfdrData2019 Version: 1.6.0 Command: /home/biocbuild/bbs-3.13-bioc/R/bin/R CMD INSTALL benchmarkfdrData2019 StartedAt: 2021-10-16 11:14:00 -0400 (Sat, 16 Oct 2021) EndedAt: 2021-10-16 11:14:39 -0400 (Sat, 16 Oct 2021) EllapsedTime: 38.9 seconds RetCode: 0 Status: OK