Package: bladderbatch Version: 1.30.0 Command: /home/biocbuild/bbs-3.13-bioc/R/bin/R CMD build --keep-empty-dirs --no-resave-data bladderbatch StartedAt: 2021-10-16 11:29:41 -0400 (Sat, 16 Oct 2021) EndedAt: 2021-10-16 11:29:46 -0400 (Sat, 16 Oct 2021) EllapsedTime: 5.7 seconds RetCode: 0 Status: OK PackageFile: bladderbatch_1.30.0.tar.gz PackageFileSize: 9.208 MiB