Package: bladderbatch Version: 1.30.0 Command: /home/biocbuild/bbs-3.13-bioc/R/bin/R CMD check --install=check:bladderbatch.install-out.txt --library=/home/biocbuild/bbs-3.13-bioc/R/library --no-vignettes --timings bladderbatch_1.30.0.tar.gz StartedAt: 2021-10-16 12:49:30 -0400 (Sat, 16 Oct 2021) EndedAt: 2021-10-16 12:49:53 -0400 (Sat, 16 Oct 2021) EllapsedTime: 22.8 seconds RetCode: 0 Status: WARNINGS CheckDir: bladderbatch.Rcheck Warnings: 1