Package: brainImageRdata Version: 1.10.0 Command: /home/biocbuild/bbs-3.13-bioc/R/bin/R CMD INSTALL brainImageRdata StartedAt: 2021-10-16 11:16:14 -0400 (Sat, 16 Oct 2021) EndedAt: 2021-10-16 11:16:27 -0400 (Sat, 16 Oct 2021) EllapsedTime: 13.6 seconds RetCode: 0 Status: OK