Package: breakpointRdata Version: 1.10.0 Command: /home/biocbuild/bbs-3.13-bioc/R/bin/R CMD build --keep-empty-dirs --no-resave-data breakpointRdata StartedAt: 2021-10-16 11:30:27 -0400 (Sat, 16 Oct 2021) EndedAt: 2021-10-16 11:30:44 -0400 (Sat, 16 Oct 2021) EllapsedTime: 17.6 seconds RetCode: 0 Status: OK PackageFile: breakpointRdata_1.10.0.tar.gz PackageFileSize: 69.47 MiB