Package: breakpointRdata Version: 1.10.0 Command: /home/biocbuild/bbs-3.13-bioc/R/bin/R CMD INSTALL breakpointRdata StartedAt: 2021-10-16 11:01:56 -0400 (Sat, 16 Oct 2021) EndedAt: 2021-10-16 11:02:00 -0400 (Sat, 16 Oct 2021) EllapsedTime: 3.8 seconds RetCode: 0 Status: OK