Package: breastCancerVDX Version: 1.30.0 Command: /home/biocbuild/bbs-3.13-bioc/R/bin/R CMD INSTALL breastCancerVDX StartedAt: 2021-10-16 11:05:42 -0400 (Sat, 16 Oct 2021) EndedAt: 2021-10-16 11:05:46 -0400 (Sat, 16 Oct 2021) EllapsedTime: 3.7 seconds RetCode: 0 Status: OK