Package: brgedata Version: 1.14.0 Command: /home/biocbuild/bbs-3.13-bioc/R/bin/R CMD INSTALL brgedata StartedAt: 2021-10-16 11:09:37 -0400 (Sat, 16 Oct 2021) EndedAt: 2021-10-16 11:11:41 -0400 (Sat, 16 Oct 2021) EllapsedTime: 124.1 seconds RetCode: 0 Status: OK