Package: bronchialIL13 Version: 1.30.0 Command: /home/biocbuild/bbs-3.13-bioc/R/bin/R CMD build --keep-empty-dirs --no-resave-data bronchialIL13 StartedAt: 2021-10-16 11:30:51 -0400 (Sat, 16 Oct 2021) EndedAt: 2021-10-16 11:31:00 -0400 (Sat, 16 Oct 2021) EllapsedTime: 9.6 seconds RetCode: 0 Status: OK PackageFile: bronchialIL13_1.30.0.tar.gz PackageFileSize: 69.13 MiB