git_url: https://git.bioconductor.org/packages/ccdata git_branch: RELEASE_3_13 git_last_commit: fbea98a git_last_commit_date: 2021-05-19 11:59:06 -0400 (Wed, 19 May 2021) Package: ccdata Version: 1.18.0 Maintainer: Alex Pickering MaintainerEmail: alexvpickering at gmail.com