############################################################################## ############################################################################## ### ### Running command: ### ### /home/biocbuild/bbs-3.13-bioc/R/bin/R CMD INSTALL ceuhm3 ### ############################################################################## ############################################################################## * installing to library ‘/home/biocbuild/bbs-3.13-bioc/R/library’ ERROR: dependencies ‘GGBase’, ‘GGtools’ are not available for package ‘ceuhm3’ * removing ‘/home/biocbuild/bbs-3.13-bioc/R/library/ceuhm3’