Package: cgdv17 Version: 0.30.0 Command: /home/biocbuild/bbs-3.13-bioc/R/bin/R CMD build --keep-empty-dirs --no-resave-data cgdv17 StartedAt: 2021-10-16 11:35:26 -0400 (Sat, 16 Oct 2021) EndedAt: 2021-10-16 11:36:25 -0400 (Sat, 16 Oct 2021) EllapsedTime: 59.1 seconds RetCode: 1 Status: ERROR PackageFile: None PackageFileSize: NA