Package: cgdv17 Version: 0.30.0 Command: /home/biocbuild/bbs-3.13-bioc/R/bin/R CMD INSTALL cgdv17 StartedAt: 2021-10-16 11:19:01 -0400 (Sat, 16 Oct 2021) EndedAt: 2021-10-16 11:19:37 -0400 (Sat, 16 Oct 2021) EllapsedTime: 35.9 seconds RetCode: 0 Status: OK