git_url: https://git.bioconductor.org/packages/curatedAdipoChIP git_branch: RELEASE_3_13 git_last_commit: 23986ca git_last_commit_date: 2021-05-19 12:08:10 -0400 (Wed, 19 May 2021) Package: curatedAdipoChIP Version: 1.8.0 Maintainer: Mahmoud Ahmed MaintainerEmail: mahmoud.s.fahmy at students.kasralainy.edu.eg