Package: curatedAdipoChIP Version: 1.8.0 Command: /home/biocbuild/bbs-3.13-bioc/R/bin/R CMD build --keep-empty-dirs --no-resave-data curatedAdipoChIP StartedAt: 2021-10-16 11:40:51 -0400 (Sat, 16 Oct 2021) EndedAt: 2021-10-16 11:46:54 -0400 (Sat, 16 Oct 2021) EllapsedTime: 362.8 seconds RetCode: 0 Status: OK PackageFile: curatedAdipoChIP_1.8.0.tar.gz PackageFileSize: 105.1 KiB