Package: curatedAdipoChIP Version: 1.8.0 Command: /home/biocbuild/bbs-3.13-bioc/R/bin/R CMD INSTALL curatedAdipoChIP StartedAt: 2021-10-16 11:15:32 -0400 (Sat, 16 Oct 2021) EndedAt: 2021-10-16 11:15:54 -0400 (Sat, 16 Oct 2021) EllapsedTime: 21.7 seconds RetCode: 0 Status: OK