git_url: https://git.bioconductor.org/packages/curatedBladderData git_branch: RELEASE_3_13 git_last_commit: 2a341cb git_last_commit_date: 2021-05-19 11:43:41 -0400 (Wed, 19 May 2021) Package: curatedBladderData Version: 1.28.0 Maintainer: Markus Riester MaintainerEmail: markus at jimmy.harvard.edu