Package: curatedBreastData Version: 2.20.0 Command: /home/biocbuild/bbs-3.13-bioc/R/bin/R CMD check --install=check:curatedBreastData.install-out.txt --library=/home/biocbuild/bbs-3.13-bioc/R/library --no-vignettes --timings curatedBreastData_2.20.0.tar.gz StartedAt: 2021-10-16 13:01:18 -0400 (Sat, 16 Oct 2021) EndedAt: 2021-10-16 13:06:48 -0400 (Sat, 16 Oct 2021) EllapsedTime: 330.5 seconds RetCode: 0 Status: OK CheckDir: curatedBreastData.Rcheck Warnings: 0