git_url: https://git.bioconductor.org/packages/curatedTCGAData git_branch: RELEASE_3_13 git_last_commit: f2d8bd3 git_last_commit_date: 2021-05-19 12:02:29 -0400 (Wed, 19 May 2021) Package: curatedTCGAData Version: 1.14.0 Maintainer: Marcel Ramos MaintainerEmail: marcel.ramos at roswellpark.org