Package: curatedTCGAData Version: 1.14.0 Command: /home/biocbuild/bbs-3.13-bioc/R/bin/R CMD build --keep-empty-dirs --no-resave-data curatedTCGAData StartedAt: 2021-10-16 11:44:19 -0400 (Sat, 16 Oct 2021) EndedAt: 2021-10-16 11:46:01 -0400 (Sat, 16 Oct 2021) EllapsedTime: 101.6 seconds RetCode: 0 Status: OK PackageFile: curatedTCGAData_1.14.0.tar.gz PackageFileSize: 359.7 KiB