Package: curatedTCGAData Version: 1.14.0 Command: /home/biocbuild/bbs-3.13-bioc/R/bin/R CMD INSTALL curatedTCGAData StartedAt: 2021-10-16 11:15:55 -0400 (Sat, 16 Oct 2021) EndedAt: 2021-10-16 11:16:20 -0400 (Sat, 16 Oct 2021) EllapsedTime: 24.8 seconds RetCode: 0 Status: OK