Package: depmap Version: 1.6.0 Command: /home/biocbuild/bbs-3.13-bioc/R/bin/R CMD build --keep-empty-dirs --no-resave-data depmap StartedAt: 2021-10-16 11:46:01 -0400 (Sat, 16 Oct 2021) EndedAt: 2021-10-16 12:05:01 -0400 (Sat, 16 Oct 2021) EllapsedTime: 1140.5 seconds RetCode: 0 Status: OK PackageFile: depmap_1.6.0.tar.gz PackageFileSize: 1.296 MiB