Package: derfinderData Version: 2.10.0 Command: /home/biocbuild/bbs-3.13-bioc/R/bin/R CMD build --keep-empty-dirs --no-resave-data derfinderData StartedAt: 2021-10-16 11:46:06 -0400 (Sat, 16 Oct 2021) EndedAt: 2021-10-16 11:46:15 -0400 (Sat, 16 Oct 2021) EllapsedTime: 8.8 seconds RetCode: 0 Status: OK PackageFile: derfinderData_2.10.0.tar.gz PackageFileSize: 27.51 MiB