Package: derfinderData Version: 2.10.0 Command: /home/biocbuild/bbs-3.13-bioc/R/bin/R CMD check --install=check:derfinderData.install-out.txt --library=/home/biocbuild/bbs-3.13-bioc/R/library --no-vignettes --timings derfinderData_2.10.0.tar.gz StartedAt: 2021-10-16 13:04:50 -0400 (Sat, 16 Oct 2021) EndedAt: 2021-10-16 13:05:04 -0400 (Sat, 16 Oct 2021) EllapsedTime: 13.4 seconds RetCode: 0 Status: OK CheckDir: derfinderData.Rcheck Warnings: 0