git_url: https://git.bioconductor.org/packages/dressCheck git_branch: RELEASE_3_13 git_last_commit: f716c5e git_last_commit_date: 2021-05-19 11:30:48 -0400 (Wed, 19 May 2021) Package: dressCheck Version: 0.30.0 Maintainer: Vincent Carey MaintainerEmail: stvjc at channing.harvard.edu