Package: emtdata Version: 1.0.0 Command: /home/biocbuild/bbs-3.13-bioc/R/bin/R CMD check --install=check:emtdata.install-out.txt --library=/home/biocbuild/bbs-3.13-bioc/R/library --no-vignettes --timings emtdata_1.0.0.tar.gz StartedAt: 2021-10-16 13:08:59 -0400 (Sat, 16 Oct 2021) EndedAt: 2021-10-16 13:12:19 -0400 (Sat, 16 Oct 2021) EllapsedTime: 200.0 seconds RetCode: 0 Status: OK CheckDir: emtdata.Rcheck Warnings: 0