Package: etec16s Version: 1.20.0 Command: /home/biocbuild/bbs-3.13-bioc/R/bin/R CMD build --keep-empty-dirs --no-resave-data etec16s StartedAt: 2021-10-16 11:52:11 -0400 (Sat, 16 Oct 2021) EndedAt: 2021-10-16 11:52:19 -0400 (Sat, 16 Oct 2021) EllapsedTime: 8.4 seconds RetCode: 0 Status: OK PackageFile: etec16s_1.20.0.tar.gz PackageFileSize: 254.1 KiB