Package: facsDorit Version: 1.34.0 Command: /home/biocbuild/bbs-3.13-bioc/R/bin/R CMD check --install=check:facsDorit.install-out.txt --library=/home/biocbuild/bbs-3.13-bioc/R/library --no-vignettes --timings facsDorit_1.34.0.tar.gz StartedAt: 2021-10-16 13:09:41 -0400 (Sat, 16 Oct 2021) EndedAt: 2021-10-16 13:09:46 -0400 (Sat, 16 Oct 2021) EllapsedTime: 5.8 seconds RetCode: 1 Status: ERROR CheckDir: facsDorit.Rcheck Warnings: NA