Package: facsDorit Version: 1.34.0 Command: /home/biocbuild/bbs-3.13-bioc/R/bin/R CMD INSTALL facsDorit StartedAt: 2021-10-16 11:27:00 -0400 (Sat, 16 Oct 2021) EndedAt: 2021-10-16 11:27:00 -0400 (Sat, 16 Oct 2021) EllapsedTime: 0.3 seconds RetCode: 1 Status: ERROR