Package: gaschYHS Version: 1.30.0 Command: /home/biocbuild/bbs-3.13-bioc/R/bin/R CMD build --keep-empty-dirs --no-resave-data gaschYHS StartedAt: 2021-10-16 12:02:40 -0400 (Sat, 16 Oct 2021) EndedAt: 2021-10-16 12:02:42 -0400 (Sat, 16 Oct 2021) EllapsedTime: 2.0 seconds RetCode: 0 Status: OK PackageFile: gaschYHS_1.30.0.tar.gz PackageFileSize: 1.305 MiB