Package: hapmap100kxba Version: 1.34.0 Command: /home/biocbuild/bbs-3.13-bioc/R/bin/R CMD INSTALL hapmap100kxba StartedAt: 2021-10-16 11:02:58 -0400 (Sat, 16 Oct 2021) EndedAt: 2021-10-16 11:03:02 -0400 (Sat, 16 Oct 2021) EllapsedTime: 3.5 seconds RetCode: 0 Status: OK