Package: healthyFlowData Version: 1.30.0 Command: /home/biocbuild/bbs-3.13-bioc/R/bin/R CMD build --keep-empty-dirs --no-resave-data healthyFlowData StartedAt: 2021-10-16 12:09:56 -0400 (Sat, 16 Oct 2021) EndedAt: 2021-10-16 12:10:04 -0400 (Sat, 16 Oct 2021) EllapsedTime: 8.6 seconds RetCode: 0 Status: OK PackageFile: healthyFlowData_1.30.0.tar.gz PackageFileSize: 10.84 MiB