Package: hgu2beta7 Version: 1.32.0 Command: /home/biocbuild/bbs-3.13-bioc/R/bin/R CMD build --keep-empty-dirs --no-resave-data hgu2beta7 StartedAt: 2021-10-16 12:11:20 -0400 (Sat, 16 Oct 2021) EndedAt: 2021-10-16 12:11:22 -0400 (Sat, 16 Oct 2021) EllapsedTime: 1.3 seconds RetCode: 0 Status: OK PackageFile: hgu2beta7_1.32.0.tar.gz PackageFileSize: 6.409 MiB