Package: hmyriB36 Version: 1.28.0 Command: /home/biocbuild/bbs-3.13-bioc/R/bin/R CMD build --keep-empty-dirs --no-resave-data hmyriB36 StartedAt: 2021-10-16 12:13:32 -0400 (Sat, 16 Oct 2021) EndedAt: 2021-10-16 12:13:41 -0400 (Sat, 16 Oct 2021) EllapsedTime: 9.3 seconds RetCode: 0 Status: OK PackageFile: hmyriB36_1.28.0.tar.gz PackageFileSize: 79.7 MiB